BEGIN:VCALENDAR
VERSION:2.0
PRODID:-//Cayton Parish Council//Meeting Calendar//EN
CALSCALE:GREGORIAN
METHOD:PUBLISH
BEGIN:VEVENT
UID:71336-20260429@caytonparishcouncil.gov.uk
DTSTAMP:20260424T142245Z
DTSTART;VALUE=DATE:20260429
DTEND;VALUE=DATE:20260430
SUMMARY:Extra Ordinary Meeting 29th April 2026 at 6pm
DESCRIPTION:Full Council Meeting\nView details: https://caytonparishcouncil.gov.uk/meetings/extra-ordinary-meeting-29th-april-2026/
URL:https://caytonparishcouncil.gov.uk/meetings/extra-ordinary-meeting-29th-april-2026/
END:VEVENT
END:VCALENDAR
