BEGIN:VCALENDAR
VERSION:2.0
PRODID:-//Cayton Parish Council//Meeting Calendar//EN
CALSCALE:GREGORIAN
METHOD:PUBLISH
BEGIN:VEVENT
UID:71329-20260224@caytonparishcouncil.gov.uk
DTSTAMP:20260420T094814Z
DTSTART;VALUE=DATE:20260224
DTEND;VALUE=DATE:20260225
SUMMARY:Parish Maintenance 24 February 2026
DESCRIPTION:Parish Maintenance Committee Meeting\nView details: https://caytonparishcouncil.gov.uk/meetings/parish-maintenance-24-february-2026/
URL:https://caytonparishcouncil.gov.uk/meetings/parish-maintenance-24-february-2026/
END:VEVENT
END:VCALENDAR
