BEGIN:VCALENDAR
VERSION:2.0
PRODID:-//Cayton Parish Council//Meeting Calendar//EN
CALSCALE:GREGORIAN
METHOD:PUBLISH
BEGIN:VEVENT
UID:71272-20260416@caytonparishcouncil.gov.uk
DTSTAMP:20260422T083740Z
DTSTART;VALUE=DATE:20260416
DTEND;VALUE=DATE:20260417
SUMMARY:Parish Maintenance Meeting 16th April 2026
DESCRIPTION:Parish Maintenance Committee Meeting\nView details: https://caytonparishcouncil.gov.uk/meetings/parish-maintenance-meeting-16th-april-2026/
URL:https://caytonparishcouncil.gov.uk/meetings/parish-maintenance-meeting-16th-april-2026/
END:VEVENT
END:VCALENDAR
