BEGIN:VCALENDAR
VERSION:2.0
PRODID:-//Cayton Parish Council//Meeting Calendar//EN
CALSCALE:GREGORIAN
METHOD:PUBLISH
BEGIN:VEVENT
UID:71257-20260119@caytonparishcouncil.gov.uk
DTSTAMP:20260420T083939Z
DTSTART;VALUE=DATE:20260119
DTEND;VALUE=DATE:20260120
SUMMARY:Parish Maintenance 19th January 2026
DESCRIPTION:Parish Maintenance Committee Meeting\nView details: https://caytonparishcouncil.gov.uk/meetings/parish-maintenance-19th-january-2026/
URL:https://caytonparishcouncil.gov.uk/meetings/parish-maintenance-19th-january-2026/
END:VEVENT
END:VCALENDAR
