BEGIN:VCALENDAR
VERSION:2.0
PRODID:-//Cayton Parish Council//Meeting Calendar//EN
CALSCALE:GREGORIAN
METHOD:PUBLISH
BEGIN:VEVENT
UID:70763-20240905@caytonparishcouncil.gov.uk
DTSTAMP:20260424T122658Z
DTSTART;VALUE=DATE:20240905
DTEND;VALUE=DATE:20240906
SUMMARY:Parish Maintenance Committee 5th September 2024
DESCRIPTION:Parish Maintenance Committee Meeting\nView details: https://caytonparishcouncil.gov.uk/meetings/parish-maintenance-committee/
URL:https://caytonparishcouncil.gov.uk/meetings/parish-maintenance-committee/
END:VEVENT
END:VCALENDAR
